BEGIN:VCALENDAR
VERSION:2.0
PRODID:-//hacksw/handcal//NONSGML v1.0//EN
CALSCALE:GREGORIAN
BEGIN:VEVENT
UID:40
DTSTAMP:20260421T174227Z
DESCRIPTION:Meeting to discuss Trip
DTSTART:20220316T060000Z
DTEND:20220316T070000Z
LOCATION:Office
SUMMARY:Meeting to discuss Trip
URL;VALUE=URI:https://demos.nixfifty.com/events/meeting-to-discuss-trip.40/
PARTICIPATION:NEEDS-ACTION
END:VEVENT
END:VCALENDAR