BEGIN:VCALENDAR
VERSION:2.0
PRODID:-//hacksw/handcal//NONSGML v1.0//EN
CALSCALE:GREGORIAN
BEGIN:VEVENT
UID:15
DTSTAMP:20260421T191455Z
DESCRIPTION:We'll have a meeting to discuss this addon..
DTSTART:20211029T040000Z
DTEND:20211029T050000Z
LOCATION:
SUMMARY:Meeting RSVP Required
URL;VALUE=URI:https://demos.nixfifty.com/events/meeting-rsvp-required.15/
PARTICIPATION:NEEDS-ACTION
END:VEVENT
END:VCALENDAR