BEGIN:VCALENDAR
VERSION:2.0
PRODID:-//hacksw/handcal//NONSGML v1.0//EN
CALSCALE:GREGORIAN
BEGIN:VEVENT
UID:43
DTSTAMP:20260421T203315Z
DESCRIPTION:so we can see change of RSVP options
DTSTART:20220316T120000Z
DTEND:20220317T123000Z
LOCATION:berry
SUMMARY:Event with RSVP created and allowed to age
URL;VALUE=URI:https://demos.nixfifty.com/events/event-with-rsvp-created-and-allowed-to-age.43/
PARTICIPATION:NEEDS-ACTION
END:VEVENT
END:VCALENDAR